BEGIN:VCALENDAR
VERSION:2.0
PRODID:-//The Chopin Society UK - ECPv6.15.20//NONSGML v1.0//EN
CALSCALE:GREGORIAN
METHOD:PUBLISH
X-ORIGINAL-URL:https://www.chopin-society.org.uk
X-WR-CALDESC:Events for The Chopin Society UK
REFRESH-INTERVAL;VALUE=DURATION:PT1H
X-Robots-Tag:noindex
X-PUBLISHED-TTL:PT1H
BEGIN:VTIMEZONE
TZID:UTC
BEGIN:STANDARD
TZOFFSETFROM:+0000
TZOFFSETTO:+0000
TZNAME:UTC
DTSTART:20240101T000000
END:STANDARD
END:VTIMEZONE
BEGIN:VEVENT
DTSTART;TZID=UTC:20251026T163000
DTEND;TZID=UTC:20251026T183000
DTSTAMP:20260420T160613
CREATED:20250630T134400Z
LAST-MODIFIED:20251024T143708Z
UID:1398-1761496200-1761503400@www.chopin-society.org.uk
SUMMARY:Krzysztof Moskalewicz
DESCRIPTION:Krzysztof Moskalewicz is a Polish pianist celebrated for his exceptional sensitivity and interpretations marked by naturalness and profound expression. \nEqually passionate about solo and collaborative performance\, Krzysztof has performed as a soloist and chamber musician at many prestigious venues including Barbican Hall\, Wigmore Hall\, Birmingham Town Hall\, Palacio de Festivales de Santander\, and the Witold Lutosławski Polish Radio Concert Studio in Warsaw\, alongside many other venues across Europe\, Japan\, and the United States. As a soloist\, Krzysztof has performed with the Sussex Symphony Orchestra\, the Opole Philharmonic Orchestra\, the Radom Chamber Orchestra\, and the Fryderyk Chopin State Music School Symphony Orchestra. \nKrzysztof has been invited to many international music festivals and piano courses worldwide. In 2015 he attended the Aspen Music Festival and School in Colorado. He has collaborated with Maestro Thomas Adès at the International Musicians Seminar in Prussia Cove and has also performed at the Harmos International Chamber Music Festival at Casa da Música in Porto\, the Encuentro de Música y Academia de Santander Festival\, the Aegean Arts International Festival in Crete\, Gijon International Piano Festival\, and the Bachfest in Leipzig. \nHis debut album released in 2022 features all of Chopin’s Ballades alongside new compositions titled ‘Four Postcards’ by the Chinese composer Sun Keting. Notably\, he has also recorded a unique recital on Chopin’s personal Pleyel piano\, the very instrument on which the composer created some of his final works. \nKrzysztof’s musical journey began at the age of seven under the tutelage of Renata Lasocka. In 2011\, he graduated with honors from the Fryderyk Chopin State Music School in Warsaw\, where he studied with Joanna Kurpiowska. He furthered his education at the Guildhall School of Music & Drama\, earning a Master’s degree with distinction in 2017 under the guidance of Ronan O’Hora and receiving the prestigious Guildhall Artist Fellowship. He also completed a Professional Diploma at the Royal Academy of Music\, studying with Ian Fountain. \nA prize winner at several international piano competitions\, including the International Brant Piano Competition in Birmingham\, the Christopher Duke International Piano Recital Competition in London\, and the Piano Competition of Ludwik Stefański Plock in Poland\, which led to a concert tour in Japan. In 2016 he became an artist of the Talent Unlimited Trust. Krzysztof was also awarded the Derek Butler Award from the Countess of Munster Musical Trust and the James Gibb Scholarship Award. Moreover\, Krzysztof has received awards from the Royal Academy of Music Trust and the Sinfonia Varsovia Foundation. \nKrzysztof Moskalewicz will play: \nBeethoven – Sonata Op. 13 ‘Pathetique’ \nPaderewski – Miscellanea Op. 16: \nNo. 2 Melodie in Gb major and no.4 Nocturne in Bb Major \nSzymanowski – Variations Op. 3 \nChopin – 24 Preludes Op. 28
URL:https://www.chopin-society.org.uk/recital/krzysztof-moskalewicz/
LOCATION:Westminster Cathedral Hall\, Ambrosden Avenue\, London\, SW1P 1QW
ATTACH;FMTTYPE=image/png:https://www.chopin-society.org.uk/wp-content/uploads/2025/06/Krzysztof-Moskalewicz.png
END:VEVENT
END:VCALENDAR